BEGIN:VCALENDAR
VERSION:2.0
PRODID:-//ACES HIGH SALOON | Bar, Restaurant, Live Music | Salt Lake City, Utah - ECPv6.15.20//NONSGML v1.0//EN
CALSCALE:GREGORIAN
METHOD:PUBLISH
X-WR-CALNAME:ACES HIGH SALOON | Bar, Restaurant, Live Music | Salt Lake City, Utah
X-ORIGINAL-URL:https://aceshighsaloon.com
X-WR-CALDESC:Events for ACES HIGH SALOON | Bar, Restaurant, Live Music | Salt Lake City, Utah
REFRESH-INTERVAL;VALUE=DURATION:PT1H
X-Robots-Tag:noindex
X-PUBLISHED-TTL:PT1H
BEGIN:VTIMEZONE
TZID:America/Denver
BEGIN:DAYLIGHT
TZOFFSETFROM:-0700
TZOFFSETTO:-0600
TZNAME:MDT
DTSTART:20250309T090000
END:DAYLIGHT
BEGIN:STANDARD
TZOFFSETFROM:-0600
TZOFFSETTO:-0700
TZNAME:MST
DTSTART:20251102T080000
END:STANDARD
BEGIN:DAYLIGHT
TZOFFSETFROM:-0700
TZOFFSETTO:-0600
TZNAME:MDT
DTSTART:20260308T090000
END:DAYLIGHT
BEGIN:STANDARD
TZOFFSETFROM:-0600
TZOFFSETTO:-0700
TZNAME:MST
DTSTART:20261101T080000
END:STANDARD
BEGIN:DAYLIGHT
TZOFFSETFROM:-0700
TZOFFSETTO:-0600
TZNAME:MDT
DTSTART:20270314T090000
END:DAYLIGHT
BEGIN:STANDARD
TZOFFSETFROM:-0600
TZOFFSETTO:-0700
TZNAME:MST
DTSTART:20271107T080000
END:STANDARD
END:VTIMEZONE
BEGIN:VEVENT
DTSTART;TZID=America/Denver:20260419T200000
DTEND;TZID=America/Denver:20260419T235900
DTSTAMP:20260421T033930
CREATED:20260402T043442Z
LAST-MODIFIED:20260402T043514Z
UID:34380-1776628800-1776643140@aceshighsaloon.com
SUMMARY:OMG! Karaoke!
DESCRIPTION:
URL:https://aceshighsaloon.com/event/omg-karaoke-52/
END:VEVENT
BEGIN:VEVENT
DTSTART;TZID=America/Denver:20260418T200000
DTEND;TZID=America/Denver:20260418T235900
DTSTAMP:20260421T033930
CREATED:20260126T192954Z
LAST-MODIFIED:20260227T193549Z
UID:32346-1776542400-1776556740@aceshighsaloon.com
SUMMARY:The Meteors\, Cougar Gold\, & The Sex Dolls
DESCRIPTION:
URL:https://aceshighsaloon.com/event/the-meteors-2/
END:VEVENT
BEGIN:VEVENT
DTSTART;TZID=America/Denver:20260417T200000
DTEND;TZID=America/Denver:20260417T235900
DTSTAMP:20260421T033930
CREATED:20260113T214924Z
LAST-MODIFIED:20260113T214926Z
UID:32078-1776456000-1776470340@aceshighsaloon.com
SUMMARY:Among Wolves\, Triune\, Leveler\, & Hated
DESCRIPTION:
URL:https://aceshighsaloon.com/event/among-wolves-triune-leveler-hated/
END:VEVENT
BEGIN:VEVENT
DTSTART;TZID=America/Denver:20260416T200000
DTEND;TZID=America/Denver:20260416T235900
DTSTAMP:20260421T033930
CREATED:20260401T205841Z
LAST-MODIFIED:20260401T205908Z
UID:34364-1776369600-1776383940@aceshighsaloon.com
SUMMARY:OMG! Karaoke!
DESCRIPTION:
URL:https://aceshighsaloon.com/event/omg-karaoke-51/
END:VEVENT
BEGIN:VEVENT
DTSTART;TZID=America/Denver:20260415T190000
DTEND;TZID=America/Denver:20260415T235900
DTSTAMP:20260421T033930
CREATED:20260213T020728Z
LAST-MODIFIED:20260213T020849Z
UID:32754-1776279600-1776297540@aceshighsaloon.com
SUMMARY:Monsterwatch\, Pegzilla\, Mortigi Tempo\, & Jacob T. Skeen
DESCRIPTION:
URL:https://aceshighsaloon.com/event/monsterwatch-pegzilla-mortgi-tempo-jacob-t-skeen/
END:VEVENT
BEGIN:VEVENT
DTSTART;TZID=America/Denver:20260414T190000
DTEND;TZID=America/Denver:20260414T235900
DTSTAMP:20260421T033930
CREATED:20260121T223716Z
LAST-MODIFIED:20260213T022902Z
UID:32219-1776193200-1776211140@aceshighsaloon.com
SUMMARY:Weedeater\, Conan\, Telekinetic Yeti\, & Oxcross
DESCRIPTION:
URL:https://aceshighsaloon.com/event/weedeater-conan/
END:VEVENT
BEGIN:VEVENT
DTSTART;TZID=America/Denver:20260412T200000
DTEND;TZID=America/Denver:20260412T235900
DTSTAMP:20260421T033930
CREATED:20260401T205736Z
LAST-MODIFIED:20260401T205739Z
UID:34358-1776024000-1776038340@aceshighsaloon.com
SUMMARY:OMG! Karaoke!
DESCRIPTION:
URL:https://aceshighsaloon.com/event/omg-karaoke-50/
END:VEVENT
BEGIN:VEVENT
DTSTART;TZID=America/Denver:20260411T190000
DTEND;TZID=America/Denver:20260411T235900
DTSTAMP:20260421T033930
CREATED:20260227T170647Z
LAST-MODIFIED:20260227T170649Z
UID:33223-1775934000-1775951940@aceshighsaloon.com
SUMMARY:Goners UK Fundraiser Show - Powerbeer\, Hi-Fi Murder\, Pogo Stix
DESCRIPTION:
URL:https://aceshighsaloon.com/event/goners-uk-fundraiser-show-powerbeer-hi-fi-murder-pogo-stix/
END:VEVENT
BEGIN:VEVENT
DTSTART;TZID=America/Denver:20260410T200000
DTEND;TZID=America/Denver:20260410T235900
DTSTAMP:20260421T033930
CREATED:20260323T180406Z
LAST-MODIFIED:20260323T180409Z
UID:34056-1775851200-1775865540@aceshighsaloon.com
SUMMARY:Tryygon\, Monstrology\, & Chasmlurk
DESCRIPTION:
URL:https://aceshighsaloon.com/event/tryygon-monstrology-chasmlurk/
END:VEVENT
BEGIN:VEVENT
DTSTART;TZID=America/Denver:20260409T200000
DTEND;TZID=America/Denver:20260409T235900
DTSTAMP:20260421T033930
CREATED:20260401T193815Z
LAST-MODIFIED:20260401T193818Z
UID:34348-1775764800-1775779140@aceshighsaloon.com
SUMMARY:OMG! Karaoke!
DESCRIPTION:
URL:https://aceshighsaloon.com/event/omg-karaoke-49/
END:VEVENT
BEGIN:VEVENT
DTSTART;TZID=America/Denver:20260408T200000
DTEND;TZID=America/Denver:20260408T235900
DTSTAMP:20260421T033930
CREATED:20260216T205522Z
LAST-MODIFIED:20260407T195542Z
UID:32851-1775678400-1775692740@aceshighsaloon.com
SUMMARY:DRI\, Deathwish\, Clusterfux \, & Cerebros Destruidos
DESCRIPTION:
URL:https://aceshighsaloon.com/event/d-r-i-deathwish-clusterfux/
END:VEVENT
BEGIN:VEVENT
DTSTART;TZID=America/Denver:20260407T190000
DTEND;TZID=America/Denver:20260407T235900
DTSTAMP:20260421T033930
CREATED:20251208T230339Z
LAST-MODIFIED:20260119T175711Z
UID:31582-1775588400-1775606340@aceshighsaloon.com
SUMMARY:Girl in a Coma\, Skating Polly\, & Shecock
DESCRIPTION:
URL:https://aceshighsaloon.com/event/girl-in-a-coma-skating-polly/
END:VEVENT
BEGIN:VEVENT
DTSTART;TZID=America/Denver:20260405T180000
DTEND;TZID=America/Denver:20260405T235900
DTSTAMP:20260421T033930
CREATED:20251229T224711Z
LAST-MODIFIED:20260107T193328Z
UID:31742-1775412000-1775433540@aceshighsaloon.com
SUMMARY:EyeHateGod\, Crowbar\, & Bl'ast
DESCRIPTION:
URL:https://aceshighsaloon.com/event/eyehategod-crowbar-blast/
END:VEVENT
BEGIN:VEVENT
DTSTART;TZID=America/Denver:20260405T133000
DTEND;TZID=America/Denver:20260405T170000
DTSTAMP:20260421T033930
CREATED:20260227T175800Z
LAST-MODIFIED:20260405T030915Z
UID:33231-1775395800-1775408400@aceshighsaloon.com
SUMMARY:*MATINEE SHOW* Crowbar + Eyehategod
DESCRIPTION:
URL:https://aceshighsaloon.com/event/matinee-show-crowbar-eyehategod-only/
END:VEVENT
BEGIN:VEVENT
DTSTART;TZID=America/Denver:20260404T190000
DTEND;TZID=America/Denver:20260404T235900
DTSTAMP:20260421T033930
CREATED:20260115T171240Z
LAST-MODIFIED:20260223T212842Z
UID:32117-1775329200-1775347140@aceshighsaloon.com
SUMMARY:Raven\, Slackjaw\, & Bonestorm
DESCRIPTION:
URL:https://aceshighsaloon.com/event/raven-slackjaw/
END:VEVENT
BEGIN:VEVENT
DTSTART;TZID=America/Denver:20260403T200000
DTEND;TZID=America/Denver:20260403T235900
DTSTAMP:20260421T033930
CREATED:20260227T004920Z
LAST-MODIFIED:20260227T004925Z
UID:33202-1775246400-1775260740@aceshighsaloon.com
SUMMARY:Cascadel (Formerly The Dead & Down)\, Kate LeDeuce\, & Brent Lee
DESCRIPTION:
URL:https://aceshighsaloon.com/event/cascadel-formerly-the-dead-down-kate-ledeuce-brent-lee/
END:VEVENT
BEGIN:VEVENT
DTSTART;TZID=America/Denver:20260402T180000
DTEND;TZID=America/Denver:20260402T235900
DTSTAMP:20260421T033930
CREATED:20260119T171554Z
LAST-MODIFIED:20260227T201941Z
UID:32175-1775152800-1775174340@aceshighsaloon.com
SUMMARY:Onslaught\, Warlord\, Haunter\, & Exclusionist
DESCRIPTION:
URL:https://aceshighsaloon.com/event/onslaught-warlord-new-skeletal-faces/
END:VEVENT
BEGIN:VEVENT
DTSTART;TZID=America/Denver:20260401T180000
DTEND;TZID=America/Denver:20260401T235900
DTSTAMP:20260421T033930
CREATED:20251217T213914Z
LAST-MODIFIED:20251217T213916Z
UID:31651-1775066400-1775087940@aceshighsaloon.com
SUMMARY:Obscura\, Allegaeon\, Cognitive\, & Cryptosis
DESCRIPTION:
URL:https://aceshighsaloon.com/event/obscura-allegaeon-cognitive-cryptosis/
END:VEVENT
BEGIN:VEVENT
DTSTART;TZID=America/Denver:20260331T190000
DTEND;TZID=America/Denver:20260331T235900
DTSTAMP:20260421T033930
CREATED:20251205T203211Z
LAST-MODIFIED:20251205T203215Z
UID:31552-1774983600-1775001540@aceshighsaloon.com
SUMMARY:Howling Giant\, Insomniac\, & Blood Star
DESCRIPTION:
URL:https://aceshighsaloon.com/event/howling-giant-insomniac-blood-star/
END:VEVENT
BEGIN:VEVENT
DTSTART;TZID=America/Denver:20260328T200000
DTEND;TZID=America/Denver:20260328T235900
DTSTAMP:20260421T033930
CREATED:20260227T013914Z
LAST-MODIFIED:20260227T013917Z
UID:33208-1774728000-1774742340@aceshighsaloon.com
SUMMARY:Yoatl Mictlan\, Antebellum 666\, & Mormon Tabernacle Fire
DESCRIPTION:
URL:https://aceshighsaloon.com/event/yoatl-mictlan-antebellum-666-mormon-tabernacle-fire/
END:VEVENT
BEGIN:VEVENT
DTSTART;TZID=America/Denver:20260327T183000
DTEND;TZID=America/Denver:20260327T235900
DTSTAMP:20260421T033930
CREATED:20260306T182043Z
LAST-MODIFIED:20260306T182046Z
UID:33427-1774636200-1774655940@aceshighsaloon.com
SUMMARY:Prikaganda SLC Presents : Aces High Saloon's Bar Brawl Beatdown
DESCRIPTION:
URL:https://aceshighsaloon.com/event/prikaganda-slc-presents-aces-high-saloons-bar-brawl-beatdown/
END:VEVENT
BEGIN:VEVENT
DTSTART;TZID=America/Denver:20260326T190000
DTEND;TZID=America/Denver:20260326T235900
DTSTAMP:20260421T033930
CREATED:20260203T210605Z
LAST-MODIFIED:20260203T210608Z
UID:32552-1774551600-1774569540@aceshighsaloon.com
SUMMARY:North by North\, Defmoe\, Trauma Blonde\, & Club Mungo
DESCRIPTION:
URL:https://aceshighsaloon.com/event/north-by-north-defmoe-trauma-blonde-club-mungo/
END:VEVENT
BEGIN:VEVENT
DTSTART;TZID=America/Denver:20260325T190000
DTEND;TZID=America/Denver:20260325T235900
DTSTAMP:20260421T033930
CREATED:20260226T171203Z
LAST-MODIFIED:20260305T034241Z
UID:33177-1774465200-1774483140@aceshighsaloon.com
SUMMARY:Pink Fuzz\, Jacob T. Skeen\, & LUCID
DESCRIPTION:
URL:https://aceshighsaloon.com/event/pink-fuzz/
END:VEVENT
BEGIN:VEVENT
DTSTART;TZID=America/Denver:20260323T200000
DTEND;TZID=America/Denver:20260323T235900
DTSTAMP:20260421T033930
CREATED:20260223T213326Z
LAST-MODIFIED:20260223T213331Z
UID:33065-1774296000-1774310340@aceshighsaloon.com
SUMMARY:OMG! Karaoke!
DESCRIPTION:
URL:https://aceshighsaloon.com/event/omg-karaoke-47/
END:VEVENT
BEGIN:VEVENT
DTSTART;TZID=America/Denver:20260322T190000
DTEND;TZID=America/Denver:20260322T235900
DTSTAMP:20260421T033930
CREATED:20260223T212622Z
LAST-MODIFIED:20260223T212625Z
UID:33062-1774206000-1774223940@aceshighsaloon.com
SUMMARY:Casket Robbery\, Wicked Temple\, & Vicious Souls
DESCRIPTION:
URL:https://aceshighsaloon.com/event/casket-robbery-wicked-temple-vicious-souls-2/
END:VEVENT
BEGIN:VEVENT
DTSTART;TZID=America/Denver:20260321T200000
DTEND;TZID=America/Denver:20260321T235900
DTSTAMP:20260421T033930
CREATED:20260302T011324Z
LAST-MODIFIED:20260302T011327Z
UID:33341-1774123200-1774137540@aceshighsaloon.com
SUMMARY:Reapers of the Sky\, Death Persona\, Sindar\, & The Goonbats
DESCRIPTION:
URL:https://aceshighsaloon.com/event/reapers-of-the-sky-death-persona-sindar-the-goonbats/
END:VEVENT
BEGIN:VEVENT
DTSTART;TZID=America/Denver:20260321T130000
DTEND;TZID=America/Denver:20260321T170000
DTSTAMP:20260421T033930
CREATED:20260223T212344Z
LAST-MODIFIED:20260223T212347Z
UID:33060-1774098000-1774112400@aceshighsaloon.com
SUMMARY:NYMSC
DESCRIPTION:
URL:https://aceshighsaloon.com/event/nymsc/
END:VEVENT
BEGIN:VEVENT
DTSTART;TZID=America/Denver:20260320T200000
DTEND;TZID=America/Denver:20260320T235900
DTSTAMP:20260421T033930
CREATED:20260115T170126Z
LAST-MODIFIED:20260115T170129Z
UID:32114-1774036800-1774051140@aceshighsaloon.com
SUMMARY:Gravehuffer\, Grindscape\, & Vicious Souls
DESCRIPTION:
URL:https://aceshighsaloon.com/event/gravehuffer-grindscape-vicious-souls/
END:VEVENT
BEGIN:VEVENT
DTSTART;TZID=America/Denver:20260319T200000
DTEND;TZID=America/Denver:20260319T235900
DTSTAMP:20260421T033930
CREATED:20260223T212252Z
LAST-MODIFIED:20260223T212255Z
UID:33058-1773950400-1773964740@aceshighsaloon.com
SUMMARY:OMG! Karaoke!
DESCRIPTION:
URL:https://aceshighsaloon.com/event/omg-karaoke-46/
END:VEVENT
BEGIN:VEVENT
DTSTART;TZID=America/Denver:20260318T190000
DTEND;TZID=America/Denver:20260318T235900
DTSTAMP:20260421T033930
CREATED:20260225T012334Z
LAST-MODIFIED:20260225T012337Z
UID:33130-1773860400-1773878340@aceshighsaloon.com
SUMMARY:Frick\, Up to Something\, & Atypical Heros
DESCRIPTION:
URL:https://aceshighsaloon.com/event/frick-up-to-something-atypical-heros/
END:VEVENT
END:VCALENDAR