BEGIN:VCALENDAR
VERSION:2.0
PRODID:-//ACES HIGH SALOON | Bar, Restaurant, Live Music | Salt Lake City, Utah - ECPv6.15.20//NONSGML v1.0//EN
CALSCALE:GREGORIAN
METHOD:PUBLISH
X-WR-CALNAME:ACES HIGH SALOON | Bar, Restaurant, Live Music | Salt Lake City, Utah
X-ORIGINAL-URL:https://aceshighsaloon.com
X-WR-CALDESC:Events for ACES HIGH SALOON | Bar, Restaurant, Live Music | Salt Lake City, Utah
REFRESH-INTERVAL;VALUE=DURATION:PT1H
X-Robots-Tag:noindex
X-PUBLISHED-TTL:PT1H
BEGIN:VTIMEZONE
TZID:America/Denver
BEGIN:DAYLIGHT
TZOFFSETFROM:-0700
TZOFFSETTO:-0600
TZNAME:MDT
DTSTART:20250309T090000
END:DAYLIGHT
BEGIN:STANDARD
TZOFFSETFROM:-0600
TZOFFSETTO:-0700
TZNAME:MST
DTSTART:20251102T080000
END:STANDARD
BEGIN:DAYLIGHT
TZOFFSETFROM:-0700
TZOFFSETTO:-0600
TZNAME:MDT
DTSTART:20260308T090000
END:DAYLIGHT
BEGIN:STANDARD
TZOFFSETFROM:-0600
TZOFFSETTO:-0700
TZNAME:MST
DTSTART:20261101T080000
END:STANDARD
BEGIN:DAYLIGHT
TZOFFSETFROM:-0700
TZOFFSETTO:-0600
TZNAME:MDT
DTSTART:20270314T090000
END:DAYLIGHT
BEGIN:STANDARD
TZOFFSETFROM:-0600
TZOFFSETTO:-0700
TZNAME:MST
DTSTART:20271107T080000
END:STANDARD
END:VTIMEZONE
BEGIN:VEVENT
DTSTART;TZID=America/Denver:20260519T190000
DTEND;TZID=America/Denver:20260519T235900
DTSTAMP:20260419T071309
CREATED:20260323T201316Z
LAST-MODIFIED:20260326T173846Z
UID:34061-1779217200-1779235140@aceshighsaloon.com
SUMMARY:Necrot\, Blood Monolith\, Alghoul\, & Monstrology
DESCRIPTION:
URL:https://aceshighsaloon.com/event/necrot-blood-monolith/
END:VEVENT
BEGIN:VEVENT
DTSTART;TZID=America/Denver:20260521T190000
DTEND;TZID=America/Denver:20260521T235900
DTSTAMP:20260419T071309
CREATED:20260121T224103Z
LAST-MODIFIED:20260414T220827Z
UID:32224-1779390000-1779407940@aceshighsaloon.com
SUMMARY:The Casualties: Detonate Tour \, The Drowns\, Power Beer\, & The Adjusters
DESCRIPTION:
URL:https://aceshighsaloon.com/event/the-casualties-detonate-tour-the-drowns/
END:VEVENT
BEGIN:VEVENT
DTSTART;TZID=America/Denver:20260526T200000
DTEND;TZID=America/Denver:20260526T235900
DTSTAMP:20260419T071309
CREATED:20260414T220549Z
LAST-MODIFIED:20260414T220552Z
UID:34802-1779825600-1779839940@aceshighsaloon.com
SUMMARY:Omg! Karaoke
DESCRIPTION:
URL:https://aceshighsaloon.com/event/omg-karaoke-58/
END:VEVENT
BEGIN:VEVENT
DTSTART;TZID=America/Denver:20260528T190000
DTEND;TZID=America/Denver:20260528T235900
DTSTAMP:20260419T071309
CREATED:20260417T192941Z
LAST-MODIFIED:20260417T211512Z
UID:34934-1779994800-1780012740@aceshighsaloon.com
SUMMARY:Extortionist\, Sunfish\, & Charlatan
DESCRIPTION:
URL:https://aceshighsaloon.com/event/extortionist-sunfish-charlatan/
END:VEVENT
BEGIN:VEVENT
DTSTART;TZID=America/Denver:20260529T190000
DTEND;TZID=America/Denver:20260529T235900
DTSTAMP:20260419T071309
CREATED:20260317T173217Z
LAST-MODIFIED:20260402T053310Z
UID:33859-1780081200-1780099140@aceshighsaloon.com
SUMMARY:Cali Maiden (An Iron Maiden Tribute)\, A Rock Legend ( A Thin Lizzy Tribute)\, & Irony Man (A Black Sabbath & Ozzy Osbourne Tribute)
DESCRIPTION:
URL:https://aceshighsaloon.com/event/cali-maiden-a-rock-legend/
END:VEVENT
BEGIN:VEVENT
DTSTART;TZID=America/Denver:20260530T200000
DTEND;TZID=America/Denver:20260530T235900
DTSTAMP:20260419T071309
CREATED:20260417T222201Z
LAST-MODIFIED:20260417T223437Z
UID:34950-1780171200-1780185540@aceshighsaloon.com
SUMMARY:Haley Dahmer's Birthday Party! Among Wolves\, Storm Haven\, & DJ Misa Dahmer
DESCRIPTION:
URL:https://aceshighsaloon.com/event/haley-dahmers-birthday-party-among-wolves-storm-haven-dj-misa-dahmer/
END:VEVENT
BEGIN:VEVENT
DTSTART;TZID=America/Denver:20260531T200000
DTEND;TZID=America/Denver:20260531T235900
DTSTAMP:20260419T071309
CREATED:20260414T220638Z
LAST-MODIFIED:20260414T220641Z
UID:34805-1780257600-1780271940@aceshighsaloon.com
SUMMARY:Omg! Karaoke
DESCRIPTION:
URL:https://aceshighsaloon.com/event/omg-karaoke-59/
END:VEVENT
BEGIN:VEVENT
DTSTART;TZID=America/Denver:20260601T190000
DTEND;TZID=America/Denver:20260601T235900
DTSTAMP:20260419T071309
CREATED:20260408T041553Z
LAST-MODIFIED:20260408T041556Z
UID:34672-1780340400-1780358340@aceshighsaloon.com
SUMMARY:Witch Ripper\, Sindar\, & Lucid
DESCRIPTION:
URL:https://aceshighsaloon.com/event/witch-ripper-sindar-lucid/
END:VEVENT
BEGIN:VEVENT
DTSTART;TZID=America/Denver:20260609T190000
DTEND;TZID=America/Denver:20260609T235900
DTSTAMP:20260419T071309
CREATED:20260213T050216Z
LAST-MODIFIED:20260306T193300Z
UID:32765-1781031600-1781049540@aceshighsaloon.com
SUMMARY:Wraith\, Witchtrap\, The Black Moriah\, Burial Oath\, & Exclusionist
DESCRIPTION:
URL:https://aceshighsaloon.com/event/wraith-witchtrap-the-black-moriah-burial-oath-among-wolves/
END:VEVENT
BEGIN:VEVENT
DTSTART;TZID=America/Denver:20260610T190000
DTEND;TZID=America/Denver:20260610T235900
DTSTAMP:20260419T071309
CREATED:20260220T191642Z
LAST-MODIFIED:20260220T191645Z
UID:32935-1781118000-1781135940@aceshighsaloon.com
SUMMARY:Phantom A.D. & The Sex Dolls
DESCRIPTION:
URL:https://aceshighsaloon.com/event/phantom-a-d-the-sex-dolls/
END:VEVENT
BEGIN:VEVENT
DTSTART;TZID=America/Denver:20260617T190000
DTEND;TZID=America/Denver:20260617T235900
DTSTAMP:20260419T071309
CREATED:20260409T225152Z
LAST-MODIFIED:20260409T225214Z
UID:34713-1781722800-1781740740@aceshighsaloon.com
SUMMARY:Necrofier
DESCRIPTION:
URL:https://aceshighsaloon.com/event/necrofier/
END:VEVENT
BEGIN:VEVENT
DTSTART;TZID=America/Denver:20260619T200000
DTEND;TZID=America/Denver:20260619T235900
DTSTAMP:20260419T071309
CREATED:20260317T160510Z
LAST-MODIFIED:20260317T160514Z
UID:33848-1781899200-1781913540@aceshighsaloon.com
SUMMARY:Jenny Don't & The Spurs\, Cosmic Kitten\, & Feral!Cat?Red!
DESCRIPTION:
URL:https://aceshighsaloon.com/event/jenny-dont-the-spurs-cosmic-kitten-feralcatred/
END:VEVENT
BEGIN:VEVENT
DTSTART;TZID=America/Denver:20260701T190000
DTEND;TZID=America/Denver:20260701T235900
DTSTAMP:20260419T071309
CREATED:20260417T184146Z
LAST-MODIFIED:20260417T184149Z
UID:34925-1782932400-1782950340@aceshighsaloon.com
SUMMARY:Bong Wizard\, Simian\, & GRGL
DESCRIPTION:
URL:https://aceshighsaloon.com/event/bong-wizard-simian-grgl/
END:VEVENT
BEGIN:VEVENT
DTSTART;TZID=America/Denver:20260707T190000
DTEND;TZID=America/Denver:20260707T235900
DTSTAMP:20260419T071309
CREATED:20260403T010800Z
LAST-MODIFIED:20260403T011039Z
UID:34445-1783450800-1783468740@aceshighsaloon.com
SUMMARY:Invocation Ritual & Kontusion
DESCRIPTION:
URL:https://aceshighsaloon.com/event/invocation-ritual-kontusion/
END:VEVENT
BEGIN:VEVENT
DTSTART;TZID=America/Denver:20260906T190000
DTEND;TZID=America/Denver:20260906T235900
DTSTAMP:20260419T071309
CREATED:20260417T182551Z
LAST-MODIFIED:20260417T182554Z
UID:34919-1788721200-1788739140@aceshighsaloon.com
SUMMARY:Black Flag
DESCRIPTION:
URL:https://aceshighsaloon.com/event/black-flag/
END:VEVENT
END:VCALENDAR